BEGIN:VCALENDAR
VERSION:2.0
PRODID:-//wp-events-plugin.com//7.2.3.1//EN
TZID:America/New_York
X-WR-TIMEZONE:America/New_York
BEGIN:VEVENT
UID:1345@bnaisholomalbany.org
DTSTART;TZID=America/New_York:20250810T150000
DTEND;TZID=America/New_York:20250810T150000
DTSTAMP:20250715T205349Z
URL:https://www.bnaisholomalbany.org/events/bnai-sholoms-annual-barbecue/
SUMMARY:B'nai Sholom's Annual Barbecue
DESCRIPTION:Click here for an enlarged image.
ATTACH;FMTTYPE=image/jpeg:https://www.bnaisholomalbany.org/wp-content/uplo
 ads/2025/01/2025.8-PICNIC-pdf.jpg
CATEGORIES:Events,Featured
END:VEVENT
BEGIN:VTIMEZONE
TZID:America/New_York
X-LIC-LOCATION:America/New_York
BEGIN:DAYLIGHT
DTSTART:20250309T030000
TZOFFSETFROM:-0500
TZOFFSETTO:-0400
TZNAME:EDT
END:DAYLIGHT
END:VTIMEZONE
END:VCALENDAR