BEGIN:VCALENDAR
VERSION:2.0
PRODID:-//wp-events-plugin.com//7.2.3.1//EN
TZID:America/New_York
X-WR-TIMEZONE:America/New_York
BEGIN:VEVENT
UID:617@bnaisholomalbany.org
DTSTART;TZID=America/New_York:20230506T190000
DTEND;TZID=America/New_York:20230506T190000
DTSTAMP:20230427T215805Z
URL:https://www.bnaisholomalbany.org/events/open-mic-and-benefit-concert/
SUMMARY:Open Mic and Benefit Concert
DESCRIPTION:The many talents of the region’s Jewish community will be on 
 display at B’nai Sholom Reform Congregation’s open mic and benefit con
 cert Saturday\, May 6\, 7 p.m. at the synagogue\, 420 Whitehall Road\, Alb
 any\, New York.\n\nHosted by singer/songwriter Phil Teumim\, the event wil
 l showcase the singing\, storytelling\, poetry recitation and musicianship
  of the Jewish community. All funds raised will go to aid the North Missis
 sippi Rural Legal Services – Tornado Disaster Legal Assistance Project. 
 The project helps residents of north Mississippi with legal issues resulti
 ng from their losses caused by the recent tornadoes that devastated part o
 f the state.\n\nFree admission\; donations are encouraged and appreciated.
 \n\nThe first part of the evening will be an open mic. Everyone is invited
  to perform: sing a song\, play an instrument\, tell a story\, read some p
 oems or tell a joke or two. Listen and appreciate\, or perform and be appr
 eciated.\n\nAfter intermission\, enjoy a concert by the evening’s featur
 ed artists: songs by premier acoustic trio Phil Teumim\, Will Vail and Jef
 f Klamka\, Gypsy jazz by Gadjo and stories by professional storytellers Fr
 ank-Lee Speaking.\n\nCoffee and light refreshments will be available.\n\nA
 dvance registration by email to filibuck@gmail.com is highly encouraged to
  ensure a performance spot on the program.\n\nFor more information\, visit
  www.bnaisholomalbany.org or contact the B’nai Sholom office: 518-482-52
 83 or office@bnaisholom.albany.ny.us.\n\n&nbsp\;
ATTACH;FMTTYPE=image/jpeg:https://www.bnaisholomalbany.org/wp-content/uplo
 ads/2023/04/Mississippi-Tornado-Benefit-Concert-FLYER-page-001-1-scaled.jp
 g
CATEGORIES:Events,Featured
END:VEVENT
BEGIN:VTIMEZONE
TZID:America/New_York
X-LIC-LOCATION:America/New_York
BEGIN:DAYLIGHT
DTSTART:20230312T030000
TZOFFSETFROM:-0500
TZOFFSETTO:-0400
TZNAME:EDT
END:DAYLIGHT
END:VTIMEZONE
END:VCALENDAR