BEGIN:VCALENDAR
VERSION:2.0
PRODID:-//wp-events-plugin.com//7.2.3.1//EN
TZID:America/New_York
X-WR-TIMEZONE:America/New_York
BEGIN:VEVENT
UID:1284@bnaisholomalbany.org
DTSTART;TZID=America/New_York:20250728T190000
DTEND;TZID=America/New_York:20250728T190000
DTSTAMP:20240726T010202Z
URL:https://www.bnaisholomalbany.org/events/social-action-social-justice-m
 tg-2025-07-28/
SUMMARY:Social Action/Social Justice mtg
DESCRIPTION:
CATEGORIES:Committees
END:VEVENT
BEGIN:VTIMEZONE
TZID:America/New_York
X-LIC-LOCATION:America/New_York
BEGIN:DAYLIGHT
DTSTART:20250309T030000
TZOFFSETFROM:-0500
TZOFFSETTO:-0400
TZNAME:EDT
END:DAYLIGHT
END:VTIMEZONE
END:VCALENDAR